BEGIN:VCALENDAR
VERSION:2.0
PRODID:-//Durham Cricket Association - ECPv6.4.0.1//NONSGML v1.0//EN
CALSCALE:GREGORIAN
METHOD:PUBLISH
X-WR-CALNAME:Durham Cricket Association
X-ORIGINAL-URL:https://cricdca.com
X-WR-CALDESC:Events for Durham Cricket Association
REFRESH-INTERVAL;VALUE=DURATION:PT1H
X-Robots-Tag:noindex
X-PUBLISHED-TTL:PT1H
BEGIN:VTIMEZONE
TZID:America/Toronto
BEGIN:DAYLIGHT
TZOFFSETFROM:-0500
TZOFFSETTO:-0400
TZNAME:EDT
DTSTART:20230312T070000
END:DAYLIGHT
BEGIN:STANDARD
TZOFFSETFROM:-0400
TZOFFSETTO:-0500
TZNAME:EST
DTSTART:20231105T060000
END:STANDARD
END:VTIMEZONE
BEGIN:VEVENT
DTSTART;TZID=America/Toronto:20230701T080000
DTEND;TZID=America/Toronto:20230702T170000
DTSTAMP:20260420T193828
CREATED:20230628T010830Z
LAST-MODIFIED:20240324T173235Z
UID:491-1688198400-1688317200@cricdca.com
SUMMARY:Durham Canada Day - Independence Cup
DESCRIPTION:Come celebrate Canada Day with us and unleash your cricketing beast. \n        \n  \nhttps://cricdca.com/wp-content/uploads/2023/06/Video-2023-07-14-11-58-37-PM.mp4\n 
URL:https://cricdca.com/event/dcc-canada-day-independence-cup/
LOCATION:Stone Street Park Cricket Ground
ORGANIZER;CN="Durham Cricket Club":MAILTO:support@cricdca.com
END:VEVENT
END:VCALENDAR